BEGIN:VCALENDAR
VERSION:2.0
METHOD:PUBLISH
X-WR-CALNAME:Athlete Guild Productions | Capitol Challenge 5K/10K
PRODID:-//Athlete Guild LLC//EN
BEGIN:VEVENT
DTSTAMP;VALUE=DATE-TIME:20260422T231457Z
DTSTART;VALUE=DATE-TIME:20260509T130000Z
DTEND;VALUE=DATE-TIME:20260509T130000Z
UID:https://www.athleteguild.com/event/austin-tx/2026-capitol-challenge-5k10k
URL;VALUE=URI:https://www.athleteguild.com/event/austin-tx/2026-capitol-challenge-5k10k
SUMMARY:Capitol Challenge 5K/10K
DESCRIPTION:<p>Join us on May 9th 2026 for a morning of fitness and fun! &nbsp\;Walk\, jog\, or run with us as we promote friendship and fitness at the 4th Annual Capitol Challenge\: Run With It! &nbsp\;Open to everyone who wants to participate. Participants will receive a finisher&#39\;s medal and a t-shirt. Snacks will be provided.&nbsp\;</p>
 
END:VEVENT
END:VCALENDAR
