BEGIN:VCALENDAR
VERSION:2.0
METHOD:PUBLISH
X-WR-CALNAME:Athlete Guild Productions | Hornet Races
PRODID:-//Athlete Guild LLC//EN
BEGIN:VEVENT
DTSTAMP;VALUE=DATE-TIME:20260420T172825Z
DTSTART;VALUE=DATE-TIME:20230909T123000Z
DTEND;VALUE=DATE-TIME:20230909T123000Z
UID:https://www.athleteguild.com/event/buda-tx/2023-hornet-races
URL;VALUE=URI:https://www.athleteguild.com/event/buda-tx/2023-hornet-races
SUMMARY:Hornet Races
DESCRIPTION:<p>&nbsp\;</p>
 <p>5K and .5 Mile distances for all ages!&nbsp\; We are celebrating Diez Y Seis and we&#39\;ve got some delicious additions and some fun planned!</p>
 <p>Funds raised help get students to Camp!</p>
 <p>&nbsp\;</p>
 <p>Volunteer Here -&nbsp\;<a href=\\"https\://www.signupgenius.com/go/20F0B4AA5A62CA1FC1-hornet3\\" target=\\"_blank\\">https\://www.signupgenius.com/go/20F0B4AA5A62CA1FC1-hornet3</a></p>
 <p>&nbsp\;</p>
 <p>&nbsp\;</p>
 
END:VEVENT
END:VCALENDAR
