BEGIN:VCALENDAR
VERSION:2.0
METHOD:PUBLISH
X-WR-CALNAME:Athlete Guild Productions | Dime Box Mini Marathon
PRODID:-//Athlete Guild LLC//EN
BEGIN:VEVENT
DTSTAMP;VALUE=DATE-TIME:20260421T123224Z
DTSTART;VALUE=DATE-TIME:20261003T140000Z
DTEND;VALUE=DATE-TIME:20261003T140000Z
UID:https://www.athleteguild.com/event/dime-box-tx/2026-dime-box-mini-marathon
URL;VALUE=URI:https://www.athleteguild.com/event/dime-box-tx/2026-dime-box-mini-marathon
SUMMARY:Dime Box Mini Marathon
DESCRIPTION:<p>10 K RUN  *  5 K RUN  *  2 MILE RUN  *  2 MILE WALK\, Certified (TX16085ETM\, TX16086ETM and TX16087ETM) shady\, asphalt course\; mile markers\; water stations\; Gatorade\, fruit and water at finish\; plenty of parking\; chip timing. Registration\, check-in and packet pick up will be at the Dime Box Volunteer Fire Station.<br />
 Festival activities include live entertainment\; arts &amp\; crafts vendors\; food vendors\; Parade\; BBQ Cookoff\, Lil Mr. &amp\; Miss Pageant\; Jr. Pit Master Contest\; a Kids Zone with petting zoo\, bounce house\, dunking booth\, face painting\, and more\; Bingo\; Cornhole Tournament\; Dominoes Tournament\; and more.</p>
 
END:VEVENT
END:VCALENDAR
