BEGIN:VCALENDAR
VERSION:2.0
METHOD:PUBLISH
X-WR-CALNAME:Athlete Guild Productions | Run & Float Adventure
PRODID:-//Athlete Guild LLC//EN
BEGIN:VEVENT
DTSTAMP;VALUE=DATE-TIME:20260422T151443Z
DTSTART;VALUE=DATE-TIME:20260418T140000Z
DTEND;VALUE=DATE-TIME:20260418T140000Z
UID:https://www.athleteguild.com/event/new-braunfels-tx/2026-run-float-adventure
URL;VALUE=URI:https://www.athleteguild.com/event/new-braunfels-tx/2026-run-float-adventure
SUMMARY:Run & Float Adventure
DESCRIPTION:<p>Come Run with us\, then float with us!&nbsp\; All paces welcome!</p>
 
END:VEVENT
END:VCALENDAR
