BEGIN:VCALENDAR
VERSION:2.0
METHOD:PUBLISH
X-WR-CALNAME:Athlete Guild Productions | 2023 Fall OTF Dri Tri
PRODID:-//Athlete Guild LLC//EN
BEGIN:VEVENT
DTSTAMP;VALUE=DATE-TIME:20260425T190408Z
DTSTART;VALUE=DATE-TIME:20230916T122000Z
DTEND;VALUE=DATE-TIME:20230916T122000Z
UID:https://www.athleteguild.com/event/olmos-park-tx/2023-fall-otf-dri-tri
URL;VALUE=URI:https://www.athleteguild.com/event/olmos-park-tx/2023-fall-otf-dri-tri
SUMMARY:2023 Fall OTF Dri Tri
DESCRIPTION:<p>Event hosted by Orangetheory Fitness</p>
 
END:VEVENT
END:VCALENDAR
