BEGIN:VCALENDAR
VERSION:2.0
METHOD:PUBLISH
X-WR-CALNAME:Athlete Guild Productions | Pharr Warrior Race
PRODID:-//Athlete Guild LLC//EN
BEGIN:VEVENT
DTSTAMP;VALUE=DATE-TIME:20260420T193332Z
DTSTART;VALUE=DATE-TIME:20250215T120000Z
DTEND;VALUE=DATE-TIME:20250215T120000Z
UID:https://www.athleteguild.com/event/pharr-tx/2025-pharr-warrior-race-0
URL;VALUE=URI:https://www.athleteguild.com/event/pharr-tx/2025-pharr-warrior-race-0
SUMMARY:Pharr Warrior Race
DESCRIPTION:<p><span style=\\"color\:#e03e2d\\"><b>Attention all warriors!</b></span></p>
 <p>Get ready to unleash your inner WARRIOR and conquer the ultimate test of strength\, endurance\, and determination at the City of Pharr Warrior Race! Join us for an adrenaline-fueled adventure where you will <b>swim 100m\, 6 mile bike\, 2 mile run\, and face an epic obstacle course</b> that will push you to your limits.</p>
 <p><span style=\\"color\:rgb( 186 \, 55 \, 42 )\\">You must provide your own Bike and Helmet for this event. <strong>Helmet must be worn</strong> during the bike portion no exceptions. </span></p>
 
END:VEVENT
END:VCALENDAR
