BEGIN:VCALENDAR
VERSION:2.0
METHOD:PUBLISH
X-WR-CALNAME:Athlete Guild Productions | Jackalope Run
PRODID:-//Athlete Guild LLC//EN
BEGIN:VEVENT
DTSTAMP;VALUE=DATE-TIME:20260419T130826Z
DTSTART;VALUE=DATE-TIME:20200913T045900Z
DTEND;VALUE=DATE-TIME:20200913T045900Z
UID:https://www.athleteguild.com/running/austin-tx/2020-jackalope-run
URL;VALUE=URI:https://www.athleteguild.com/running/austin-tx/2020-jackalope-run
SUMMARY:Jackalope Run
DESCRIPTION:<p>Hornet Races will not occur in person and Tom Green is not able to take on planning and producing a virtual run with all of the amazing work they are doing to prepare to teach students in the coming weeks -- so we&#39\;re going to do it for them!</p>
 <p>Please join us for the first-ever fantastical event\: Jackalope Run!&nbsp\; Participants in the 5K run\, walk\, or ride\, will receive a Jackalope finisher medal and a Jackalope shirt.&nbsp\; We&#39\;ll be revealing the designs as soon as we have them back from the designer -- can&#39\;t wait to show you!</p>
 
END:VEVENT
END:VCALENDAR
