BEGIN:VCALENDAR
VERSION:2.0
METHOD:PUBLISH
X-WR-CALNAME:Athlete Guild Productions | 2015 Hornet Races
PRODID:-//Athlete Guild LLC//EN
BEGIN:VEVENT
DTSTAMP;VALUE=DATE-TIME:20260421T065013Z
DTSTART;VALUE=DATE-TIME:20150912T123000Z
DTEND;VALUE=DATE-TIME:20150912T123000Z
UID:https://www.athleteguild.com/running/buda-tx/2015-hornet-races
URL;VALUE=URI:https://www.athleteguild.com/running/buda-tx/2015-hornet-races
SUMMARY:2015 Hornet Races
DESCRIPTION:<table border=\\"0\\" cellpadding=\\"1\\" cellspacing=\\"1\\">
 <tbody>
 <tr>
 <td>
 <p>Online Registration will close 9/9/2015 at 5\:00 PM. Walk up registration available at Early Packet Pickup\, 9/11/15 from 3\:30-5\:30 PM at Tom Green Elementary or on Race Day from 6\:30 to 7\:15 a.m.</p>
 <p>Tom Green is proud to present Hornet Races! &nbsp\;Contact Jessica Buck at <a href=\\"mailto\:buckj@g.hayscisd.net\\">buckj@g.hayscisd.net</a> - to donate!</p>
 </td></tr></tbody></table>
END:VEVENT
END:VCALENDAR
