BEGIN:VCALENDAR
VERSION:2.0
METHOD:PUBLISH
X-WR-CALNAME:Athlete Guild Productions | Hootenanny on the Hill
PRODID:-//Athlete Guild LLC//EN
BEGIN:VEVENT
DTSTAMP;VALUE=DATE-TIME:20260423T015244Z
DTSTART;VALUE=DATE-TIME:20111008T120000Z
DTEND;VALUE=DATE-TIME:20111008T120000Z
UID:https://www.athleteguild.com/running/kyle-tx/2011-hootenanny-on-the-hill
URL;VALUE=URI:https://www.athleteguild.com/running/kyle-tx/2011-hootenanny-on-the-hill
SUMMARY:Hootenanny on the Hill
DESCRIPTION:<p>Enjoy a 5K or 1K Fun Run at Plum Creek&#39\;s Hootenanny on the Hill on Saturday\, October 8\, 2011.</p>
 <p>Pre-registration begins at 6\:00am.&nbsp\; 5K Run/Walk begins at 7\:00am.&nbsp\;&nbsp\; Kids&rsquo\; 1K Fun Run/Walk begins at 8\:30am.&nbsp\; Registration includes an event t-shirt.</p>
 <p><strong>5K Entry Fees\:</strong>&nbsp\; $15 if received by October 1\, 2011 OR $20 after October 1 and on race day.</p>
 <p><strong>1K Entry Fees\:</strong> $10 if received by October 1\, 2011 OR $15 after October 1 and on race day.</p>
 
END:VEVENT
END:VCALENDAR
