BEGIN:VCALENDAR
VERSION:2.0
METHOD:PUBLISH
X-WR-CALNAME:Athlete Guild Productions | Kyle-O-Meter Resolution Run
PRODID:-//Athlete Guild LLC//EN
BEGIN:VEVENT
DTSTAMP;VALUE=DATE-TIME:20260419T215940Z
DTSTART;VALUE=DATE-TIME:20150101T140000Z
DTEND;VALUE=DATE-TIME:20150101T140000Z
UID:https://www.athleteguild.com/running/kyle-tx/2015-kyle-o-meter-resolution-run
URL;VALUE=URI:https://www.athleteguild.com/running/kyle-tx/2015-kyle-o-meter-resolution-run
SUMMARY:Kyle-O-Meter Resolution Run
DESCRIPTION:<table border=\\"0\\" cellpadding=\\"1\\" cellspacing=\\"1\\" style=\\"height\:145px\; width\:623px\\">
 <tbody>
 <tr>
 <td>
 <p><strong>Website\:</strong></p>
 <p><strong>Description\:</strong></p>
 </td>
 <td>
 <p><a href=\\"http\://www.kylechamber.org/5k\\" style=\\"line-height\: 15px\;\\">www.kylechamber.org/5k</a></p>
 </td></tr></tbody></table>
END:VEVENT
END:VCALENDAR
