BEGIN:VCALENDAR
VERSION:2.0
METHOD:PUBLISH
X-WR-CALNAME:Athlete Guild Productions | Kyle-O-Meter Resolution Run
PRODID:-//Athlete Guild LLC//EN
BEGIN:VEVENT
DTSTAMP;VALUE=DATE-TIME:20260421T121747Z
DTSTART;VALUE=DATE-TIME:20160101T140000Z
DTEND;VALUE=DATE-TIME:20160101T140000Z
UID:https://www.athleteguild.com/running/kyle-tx/2016-01-01-kyle-o-meter-resolution-run
URL;VALUE=URI:https://www.athleteguild.com/running/kyle-tx/2016-01-01-kyle-o-meter-resolution-run
SUMMARY:Kyle-O-Meter Resolution Run
DESCRIPTION:<table border=\\"0\\" cellpadding=\\"1\\" cellspacing=\\"1\\" style=\\"height\:503px\; width\:691px\\">
 <tbody>
 <tr>
 <td>
 <p><strong>Website\:</strong></p>
 <p><strong>Description\:</strong></p>
 </td>
 <td>
 <p><a href=\\"http\://www.kylechamber.org/pages/Kyle-O-Meter5K\\">http\://www.kylechamber.org/pages/Kyle-O-Meter5K</a></p>
 <p>Rain or shine event!&nbsp\; A healthy kick-off to the new year. &nbsp\;We will&nbsp\;be compiling a packet of future races or healthy events in the area for the next year. &nbsp\;</p>
 <p>Early Packet Pickup is not available.</p>
 </td></tr></tbody></table>
END:VEVENT
END:VCALENDAR
