BEGIN:VCALENDAR
VERSION:2.0
METHOD:PUBLISH
X-WR-CALNAME:Athlete Guild Productions | Negley 5K/3K/1K
PRODID:-//Athlete Guild LLC//EN
BEGIN:VEVENT
DTSTAMP;VALUE=DATE-TIME:20260423T150603Z
DTSTART;VALUE=DATE-TIME:20160305T130000Z
DTEND;VALUE=DATE-TIME:20160305T130000Z
UID:https://www.athleteguild.com/running/kyle-tx/2016-negley-5k3k1k
URL;VALUE=URI:https://www.athleteguild.com/running/kyle-tx/2016-negley-5k3k1k
SUMMARY:Negley 5K/3K/1K
DESCRIPTION:<p>This event is part of the <a href=\\"https\://www.athleteguild.com/event-series/plum-creek-challenge\\" target=\\"_blank\\">Plum Creek Challenge</a></p>
 <h1><strong>Negley 5K/3K/1K</strong></h1>
 <p><strong>Who\:&nbsp\;</strong><br />
 Negley PTA and YOU!</p>
 <p><strong>What\:</strong><br />
 Three distances to choose from &ndash\; walk\, jog\, or run!&nbsp\; <a href=\\"http\://www.athleteguild.com/venue/kyle-tx/negley-elementary\\" target=\\"_blank\\">5K\, 3K\, 1K Courses linked here at the Routes Button</a></p>
 
END:VEVENT
END:VCALENDAR
