BEGIN:VCALENDAR
VERSION:2.0
METHOD:PUBLISH
X-WR-CALNAME:Athlete Guild Productions | Steps for Stroke
PRODID:-//Athlete Guild LLC//EN
BEGIN:VEVENT
DTSTAMP;VALUE=DATE-TIME:20260423T205805Z
DTSTART;VALUE=DATE-TIME:20220521T050000Z
DTEND;VALUE=DATE-TIME:20220527T170000Z
UID:https://www.athleteguild.com/running/mcallen-tx/2022-steps-for-stroke-0
URL;VALUE=URI:https://www.athleteguild.com/running/mcallen-tx/2022-steps-for-stroke-0
SUMMARY:Steps for Stroke
DESCRIPTION:<p>This National Stroke Awareness Month\, the South Texas Health System Neurosciences &amp\; Stroke Institute presents Steps for Stroke\, a community competition aimed at raising awareness on the warning signs of stroke and educating the community on ways to reduce your risk of having one.</p>
 <p>During this virtual week-long challenge\, participants will commit to walk\, run or even dance their way to a minimum of 10\,000 steps per day and 50\,000 steps total within the specified timeframe (May 21-29).&nbsp\;</p>
 
END:VEVENT
END:VCALENDAR
