BEGIN:VCALENDAR
VERSION:2.0
METHOD:PUBLISH
X-WR-CALNAME:Athlete Guild Productions | Hardest Half
PRODID:-//Athlete Guild LLC//EN
BEGIN:VEVENT
DTSTAMP;VALUE=DATE-TIME:20260424T144117Z
DTSTART;VALUE=DATE-TIME:20090926T150000Z
DTEND;VALUE=DATE-TIME:20090926T150000Z
UID:https://www.athleteguild.com/running/willow-city-tx/2009-hardest-half
URL;VALUE=URI:https://www.athleteguild.com/running/willow-city-tx/2009-hardest-half
SUMMARY:Hardest Half
END:VEVENT
END:VCALENDAR
